BEGIN:VCALENDAR
PRODID:-//schuetzenportal.ch//Kalender//DE
VERSION:2.0
METHOD:PUBLISH
BEGIN:VEVENT
DTSTART;TZID=Europe/Zurich:20220521T080000
DTEND;TZID=Europe/Zurich:20220521T170000
LOCATION;CHARSET=UTF-8:Haslen Schiessegg
CATEGORIES:
TRANSP:OPAQUE
SEQUENCE:0
UID:24141@calendar.schuetzenportal.ch
DTSTAMP:20220521T080000Z
DESCRIPTION;CHARSET=UTF-8:Alle angegebene Zeiten und Orte sind ohne Gewähr.
SUMMARY;CHARSET=UTF-8:Schiessegg-Schiessen
GEO:47.360966;9.367171
PRIORITY:5
CLASS:PRIVATE
END:VEVENT
END:VCALENDAR
