BEGIN:VCALENDAR
PRODID:-//schuetzenportal.ch//Kalender//DE
VERSION:2.0
METHOD:PUBLISH
BEGIN:VEVENT
DTSTART;TZID=Europe/Zurich:20240601T080000
DTEND;TZID=Europe/Zurich:20240601T170000
LOCATION;CHARSET=UTF-8:Schiessanlage Ohrbühl, Winterthur  Winterthur, Ohrbühl
CATEGORIES:
TRANSP:OPAQUE
SEQUENCE:0
UID:58735@calendar.schuetzenportal.ch
DTSTAMP:20240601T080000Z
DESCRIPTION;CHARSET=UTF-8:Alle angegebene Zeiten und Orte sind ohne Gewähr.
SUMMARY;CHARSET=UTF-8:ZHSV Kantonaler GM Final
GEO:47.497753;8.763472
PRIORITY:5
CLASS:PRIVATE
END:VEVENT
END:VCALENDAR
