BEGIN:VCALENDAR
PRODID:-//schuetzenportal.ch//Kalender//DE
VERSION:2.0
METHOD:PUBLISH
BEGIN:VEVENT
DTSTART;TZID=Europe/Zurich:20250315T130000
DTEND;TZID=Europe/Zurich:20250315T160000
LOCATION;CHARSET=UTF-8:Jona Grunau
CATEGORIES:
TRANSP:OPAQUE
SEQUENCE:0
UID:60334@calendar.schuetzenportal.ch
DTSTAMP:20250315T130000Z
DESCRIPTION;CHARSET=UTF-8:Alle angegebene Zeiten und Orte sind ohne Gewähr.
SUMMARY;CHARSET=UTF-8:43. Hanslin-Gedenk-Schiessen 2025  20. Jahre Stadtschützen Rapperswil
GEO:47.240540;8.839695
PRIORITY:5
CLASS:PRIVATE
END:VEVENT
END:VCALENDAR
