BEGIN:VCALENDAR
PRODID:-//schuetzenportal.ch//Kalender//DE
VERSION:2.0
METHOD:PUBLISH
BEGIN:VEVENT
DTSTART;TZID=Europe/Zurich:20250426T133000
DTEND;TZID=Europe/Zurich:20250426T170000
LOCATION;CHARSET=UTF-8:Schiessanlage GESA Betzholz Hinwil Gemeinschaftsschiessanlage Hinwil, Betzholz
CATEGORIES:
TRANSP:OPAQUE
SEQUENCE:0
UID:60531@calendar.schuetzenportal.ch
DTSTAMP:20250426T133000Z
DESCRIPTION;CHARSET=UTF-8:Alle angegebene Zeiten und Orte sind ohne Gewähr.
SUMMARY;CHARSET=UTF-8:6. Kreiselschiessen Betzholz 2025
GEO:47.288642;8.814289
PRIORITY:5
CLASS:PRIVATE
END:VEVENT
END:VCALENDAR
