BEGIN:VCALENDAR
PRODID:-//schuetzenportal.ch//Kalender//DE
VERSION:2.0
METHOD:PUBLISH
BEGIN:VEVENT
DTSTART;TZID=Europe/Zurich:20250509T170000
DTEND;TZID=Europe/Zurich:20250509T200000
LOCATION;CHARSET=UTF-8:Schiessanlage GESA Betzholz Hinwil Gemeinschaftsschiessanlage Hinwil, Betzholz
CATEGORIES:
TRANSP:OPAQUE
SEQUENCE:0
UID:60532@calendar.schuetzenportal.ch
DTSTAMP:20250509T170000Z
DESCRIPTION;CHARSET=UTF-8:Alle angegebene Zeiten und Orte sind ohne Gewähr.
SUMMARY;CHARSET=UTF-8:6. Kreiselschiessen Betzholz 2025
GEO:47.288642;8.814289
PRIORITY:5
CLASS:PRIVATE
END:VEVENT
END:VCALENDAR
