BEGIN:VCALENDAR
PRODID:-//schuetzenportal.ch//Kalender//DE
VERSION:2.0
METHOD:PUBLISH
BEGIN:VEVENT
DTSTART;TZID=Europe/Zurich:20241026T080000
DTEND;TZID=Europe/Zurich:20241026T160000
LOCATION;CHARSET=UTF-8:Guntelsey, Thun Schiessanlage Guntelsey Thun
CATEGORIES:
TRANSP:OPAQUE
SEQUENCE:0
UID:60688@calendar.schuetzenportal.ch
DTSTAMP:20241026T080000Z
DESCRIPTION;CHARSET=UTF-8:Alle angegebene Zeiten und Orte sind ohne Gewähr.
SUMMARY;CHARSET=UTF-8:JU+VE-Final 2024
GEO:46.723512;7.606381
PRIORITY:5
CLASS:PRIVATE
END:VEVENT
END:VCALENDAR
