BEGIN:VCALENDAR
PRODID:-//schuetzenportal.ch//Kalender//DE
VERSION:2.0
METHOD:PUBLISH
BEGIN:VEVENT
DTSTART;TZID=Europe/Zurich:20260620T130000
DTEND;TZID=Europe/Zurich:20260620T180000
LOCATION;CHARSET=UTF-8:Wildhaus Munzenriet
CATEGORIES:
TRANSP:OPAQUE
SEQUENCE:0
UID:69034@calendar.schuetzenportal.ch
DTSTAMP:20260620T130000Z
DESCRIPTION;CHARSET=UTF-8:Alle angegebene Zeiten und Orte sind ohne Gewähr.
SUMMARY;CHARSET=UTF-8:8. Schofbergschiessen
GEO:47.201074;9.347833
PRIORITY:5
CLASS:PRIVATE
END:VEVENT
END:VCALENDAR
