BEGIN:VCALENDAR
VERSION:2.0
PRODID:-//indoorswiss.ch//NONSGML Schuetzenkalender.iCal 1.0//EN
BEGIN:VEVENT
SUMMARY:BO Zürich 
DTEND:20230505T190000
DTSTAMP:20260425T185737
DTSTART:20230505T160000
SEQUENCE:0
UID:1de6f046-0a24-45b9-abca-dd3e68b06803
END:VEVENT
END:VCALENDAR
