BEGIN:VCALENDAR
VERSION:2.0
PRODID:-//indoorswiss.ch//NONSGML Schuetzenkalender.iCal 1.0//EN
BEGIN:VEVENT
SUMMARY:43. Hanslin-Gedenk-Schiessen 2025  20. Jahre Stadtschützen Rapperswil 
DTEND:20250322T120000
DTSTAMP:20260424T141637
DTSTART:20250314T140000
SEQUENCE:0
UID:1de6f046-0a24-45b9-abca-dd3e68b10169
END:VEVENT
END:VCALENDAR
