BEGIN:VCALENDAR
VERSION:2.0
PRODID:-//indoorswiss.ch//NONSGML Schuetzenkalender.iCal 1.0//EN
BEGIN:VEVENT
SUMMARY:6. Kreiselschiessen Betzholz 2025 
DTEND:20250510T163000
DTSTAMP:20260424T233508
DTSTART:20250426T080000
SEQUENCE:0
UID:1de6f046-0a24-45b9-abca-dd3e68b10222
END:VEVENT
END:VCALENDAR
