BEGIN:VCALENDAR
VERSION:2.0
PRODID:-//indoorswiss.ch//NONSGML Schuetzenkalender.iCal 1.0//EN
BEGIN:VEVENT
SUMMARY:Jubiläumsschiessen 100 Jahr Pistolenschützen Arbon 
DTEND:20260510T120000
DTSTAMP:20260420T151815
DTSTART:20260501T133000
SEQUENCE:0
UID:1de6f046-0a24-45b9-abca-dd3e68b10954
END:VEVENT
END:VCALENDAR
