BEGIN:VCALENDAR
VERSION:2.0
PRODID:-//indoorswiss.ch//NONSGML Schuetzenkalender.iCal 1.0//EN
BEGIN:VEVENT
SUMMARY:8. Schofbergschiessen 
DTEND:20260621T150000
DTSTAMP:20260419T164524
DTSTART:20260619T163000
SEQUENCE:0
UID:1de6f046-0a24-45b9-abca-dd3e68b11031
END:VEVENT
END:VCALENDAR
